BEGIN:VCALENDAR
VERSION:2.0
PRODID:-//salautopianaretoa.com - ECPv6.15.20//NONSGML v1.0//EN
CALSCALE:GREGORIAN
METHOD:PUBLISH
X-ORIGINAL-URL:https://www.salautopianaretoa.com
X-WR-CALDESC:Eventos para salautopianaretoa.com
REFRESH-INTERVAL;VALUE=DURATION:PT1H
X-Robots-Tag:noindex
X-PUBLISHED-TTL:PT1H
BEGIN:VTIMEZONE
TZID:Europe/Madrid
BEGIN:DAYLIGHT
TZOFFSETFROM:+0100
TZOFFSETTO:+0200
TZNAME:CEST
DTSTART:20230326T010000
END:DAYLIGHT
BEGIN:STANDARD
TZOFFSETFROM:+0200
TZOFFSETTO:+0100
TZNAME:CET
DTSTART:20231029T010000
END:STANDARD
BEGIN:DAYLIGHT
TZOFFSETFROM:+0100
TZOFFSETTO:+0200
TZNAME:CEST
DTSTART:20240331T010000
END:DAYLIGHT
BEGIN:STANDARD
TZOFFSETFROM:+0200
TZOFFSETTO:+0100
TZNAME:CET
DTSTART:20241027T010000
END:STANDARD
BEGIN:DAYLIGHT
TZOFFSETFROM:+0100
TZOFFSETTO:+0200
TZNAME:CEST
DTSTART:20250330T010000
END:DAYLIGHT
BEGIN:STANDARD
TZOFFSETFROM:+0200
TZOFFSETTO:+0100
TZNAME:CET
DTSTART:20251026T010000
END:STANDARD
END:VTIMEZONE
BEGIN:VEVENT
DTSTART;TZID=Europe/Madrid:20240526T190000
DTEND;TZID=Europe/Madrid:20240526T200000
DTSTAMP:20260425T235242
CREATED:20240408T101405Z
LAST-MODIFIED:20240417T182906Z
UID:10055-1716750000-1716753600@www.salautopianaretoa.com
SUMMARY:HITZEN ARTEAN / BURRO - SSASK
DESCRIPTION:LA COMPAÑÍA DE DANZA CONTEMPORÁNEA GETXOTARRA «SSASK» PRESENTA: HITZEN ARTEAN Y BURRO \n  \nHITZEN ARTEAN – SINOPSIS \n“En el mundo de los sueños\, donde se confunden lo real y el imaginario\, una mujer\nintenta atrapar al vuelo un instante de existencia efímera\, como en un sueño de papel”.\n(Texto: Carla Roisín) \n“HITZEN ARTEAN” aborda la idea de transformar una escena de la vida cotidiana en un\npaisaje onírico en el que vivencias de la vida real se entremezclan con el imaginario. \n30′ \n  \nFICHA ARTÍSTICA \nIdea\, creación y composición: Isabel Lobo e Idoia Rouco.\nIntérpretes: Isabel Lobo e Idoia Rouco.\nPoesía: Carla Roisín.\nAsistencia externa: Carla Roisín.\nMúsica: Varios temas musicales.\nVestuario: Ssask Dantza. \n  \nBURRO – SINOPSIS \n“El animal que se desprende vuelca el sonido en el aroma. Lo palpo y camino. Vierto y\nlo traspaso. Desplaza la estructura en el aire que soy. Una (o ¿quizá dos?). Sutil silueta\nde mi querer. Equilibra mi trapecio para ser geometrías en avances. Para ser lo que\nsoy”. (Texto: Iratxe Alaña)\n“BURRO” habla del mundo instintivo\, de las sensaciones que nos mueven en\nuna dirección determinada\, ajena a nuestra voluntad\, a nuestro control. \n20′ \n  \nFICHA ARTÍSTICA \nIdea\, creación y composición: Idoia Rouco.\nIntérpretes: Idoia Rouco\, perchero con ruedas.\nPalabra y voz: Idoia Rouco.\nAsistencia externa: Carla Roisín.\nMúsica: Varios temas musicales.\nVestuario: Idoia Rouco.
URL:https://www.salautopianaretoa.com/evento/hitzen-artean-burro-ssask/
LOCATION:Sala Utopian Aretoa\, Polígono Industrial Errotatxu Nave D\, Locales 1-2\, Getxo\, Bizkaia\, 48993\, España
CATEGORIES:Danza,Danza Contemporánea
ATTACH;FMTTYPE=image/png:https://www.salautopianaretoa.com/wp-content/uploads/2024/04/diseno-sin-titulo-4.png
END:VEVENT
END:VCALENDAR